BEGIN:VCALENDAR
VERSION:2.0
PRODID:-//eventon.com NONSGML v1.0//EN
CALSCALE:GREGORIAN
METHOD:PUBLISH
BEGIN:VEVENT
UID:69eb9b0a9fd4e
DTSTAMP:20260424T163210Z
DTSTART:20260304T090000Z
DTEND:20260305T180000Z
LOCATION:Hotel Dolce CampoReal Lisboa Rua do Campo (Campo Real )\,  2565-770
SUMMARY:Ecommerce connect 2026
DESCRIPTION:Conecte-se às melhores inovações digitais e acelere o seu ne
 gócio.Uma experiência única com uma experiência personalizada para cada
  participante.O e-commerce connect realiza-se nos dias 4 e 5 de março de 2
 026.Pode garantir o seu lugar no e-commerce connect aqui!\nhttps://ecommerc
 eparatodos.pt/eventos/ecommerce-connect-2026/
URL:https://ecommerceparatodos.pt/eventos/ecommerce-connect-2026/
END:VEVENT
END:VCALENDAR